BEGIN:VCALENDAR
VERSION:2.0
PRODID:-//APTA - Axarquía Costa del Sol - ECPv5.1.1//NONSGML v1.0//EN
CALSCALE:GREGORIAN
METHOD:PUBLISH
X-WR-CALNAME:APTA - Axarquía Costa del Sol
X-ORIGINAL-URL:https://axarquiacostadelsol.es
X-WR-CALDESC:Eventos para APTA - Axarquía Costa del Sol
BEGIN:VTIMEZONE
TZID:UTC
BEGIN:STANDARD
TZOFFSETFROM:+0000
TZOFFSETTO:+0000
TZNAME:UTC
DTSTART:20250101T000000
END:STANDARD
END:VTIMEZONE
BEGIN:VEVENT
DTSTART;VALUE=DATE:20251108
DTEND;VALUE=DATE:20251109
DTSTAMP:20260421T150927
CREATED:20251015T111914Z
LAST-MODIFIED:20251015T114910Z
UID:32618-1762560000-1762646399@axarquiacostadelsol.es
SUMMARY:🚗 III Concentración de Clásicos Totalán 🛠️ ✨
DESCRIPTION:✨ ¡Vuelve la magia del motor clásico a Totalán! ✨🛠️\n  \n\n\n\n📅 El 8 de noviembre\, no te pierdas la III Concentración de Clásicos en la 📍 Calle Iglesia.\n🔧 Organizado por el Club Turbo Elite\, disfruta de una jornada llena de 🚘 coches históricos\, ❤️ pasión automovilística y 🎉 buen ambiente.\n🏁 ¡Te esperamos en Totalán para celebrar el arte sobre ruedas! 🏎️🎶\n  \n\n	\n		\n							\n					\n						\n																	\n				\n							\n					\n						\n																	\n				\n							\n					\n						\n																	\n				\n							\n					\n						\n																	\n				\n							\n					\n						\n																	\n				\n										\n					\n						\n					\n				\n								\n	\n\n
URL:https://axarquiacostadelsol.es/evento/%f0%9f%9a%97-iii-concentracion-de-clasicos-totalan-%f0%9f%9b%a0%ef%b8%8f-%e2%9c%a8/
LOCATION:Ayuntamiento de Totalán\, Calle Real\, 28\, Totalán\, Málaga\, Vélez-Málaga\, Málaga\, 29197\, España
ATTACH;FMTTYPE=image/jpeg:https://axarquiacostadelsol.es/wp-content/uploads/2025/10/car.jpg
END:VEVENT
END:VCALENDAR