BEGIN:VCALENDAR
VERSION:2.0
PRODID:-//APTA - Axarquía Costa del Sol - ECPv5.1.1//NONSGML v1.0//EN
CALSCALE:GREGORIAN
METHOD:PUBLISH
X-WR-CALNAME:APTA - Axarquía Costa del Sol
X-ORIGINAL-URL:https://axarquiacostadelsol.es
X-WR-CALDESC:Eventos para APTA - Axarquía Costa del Sol
BEGIN:VTIMEZONE
TZID:UTC
BEGIN:STANDARD
TZOFFSETFROM:+0000
TZOFFSETTO:+0000
TZNAME:UTC
DTSTART:20260101T000000
END:STANDARD
END:VTIMEZONE
BEGIN:VEVENT
DTSTART;VALUE=DATE:20260421
DTEND;VALUE=DATE:20260501
DTSTAMP:20260421T133558
CREATED:20260421T105239Z
LAST-MODIFIED:20260421T105847Z
UID:34203-1776729600-1777593599@axarquiacostadelsol.es
SUMMARY:Agenda Cultural de Rincón de la Victoria
DESCRIPTION:\n\n\n\n\n\n\n\n\n\n\n\n\n\n\n\n\n\n\n\n\n\n\n\n\n\n\n\n\n\n\n\n\n\nDel 20 al 30 de abril \n\n\n\n\n\n\n\n\n\n\nDía del Libro 2026.\n\n\n\n\n­\n\n\n\n\n\n\n\n\n\n\n\n\nBibliotecas Públicas Municipales.\n\n\n\n\n­\n\n\n\n\n\n\n\n\n\n\n\n\nRincón de la Victoria celebra el Día del Libro con programación especial en sus cuatro Bibliotecas Públicas Municipales. \nDel 20 al 30 de abril\, nuestras bibliotecas acogerán diversas actividades gratuitas\, como encuentros\, exposiciones y cuentacuentos. \nLas sesiones de la Seño de los Cuentos requieren de inscripción previa llamando a la biblioteca correspondiente. Las plazas para asistir a la del 23 de abril ya están cubiertas.  \n\n\n\n\n­\n\n\n\n\n\n\n\n\n\n\n\n\n\n\n\n\n\n\n\n\n\n\n\n\n\n\n\n\n\n\n\n\n\n\n\n\n\n\n\n\n\n\n\n\n\n\n\n\n\n\n\n\n\nDel 9 al 30 de abril \n\n\n\n\n\n\n\n\n\n\n‘Abracadabra\, que la lectura se abra’ – Seño de los Cuentos.\n\n\n\n\n­\n\n\n\n\n\n\n\n\n\n\n\n\nBiblioteca Municipal Antonio de Hilaria | 17:30 horas | AFORO COMPLETO.\n\n\n\n\n­\n\n\n\n\n\n\n\n\n\n\n\n\nEste mes de abril\, la Seño de los Cuentos lleva una propuesta especial a las cuatro bibliotecas del municipio para celebrar el mes del libro. \nUna jornada dirigida a familias que incluirá el cuentacuentos de un libro juguetón\, un título sorpresa con el que los más pequeños podrán interactuar y divertirse\, seguida de la creación colectiva de una historia a partir de una premisa común. \nPara asistir es necesaria la reserva previa en la biblioteca correspondiente: \n📅 Jueves 23 de abril | \n Biblioteca Municipal Antonio de Hilaria (Rincón de la Victoria) |  \n 17:30 horas | 🎟️ AFORO COMPLETO. \n📅 Jueves 30 de abril |  \n📍 Biblioteca Municipal La Cala del Moral | \n 🕠 17:30 horas |  \n Reserva tu plaza llamando al 952 404 199. \n\n\n\n\n­\n\n\n\n\n\n\n\n\n\n\n\n\n\n\n\n\n\n\n\n\n\n\n\n\n\n\n\n\n\n\n\n\n\n\n\n\n\n\n\n\nPresentación de libro\n\n\n\n\n\n\n\n\n\n\n\n\n\n\n\n\n\n\n\n\n\n\n\n\n\n\n\n\n\n\n\n\n\n\n\n\n\n\n\n\n\n\n\n\n\n\n\n\n\n\n\n\n\n\n\nJueves 23 de abril \n\n\n\n\n\n\n\n\n\n\n‘Esa fantasía es muy cara\, rey’ – Francisco Javier Rodríguez Barranco.\n\n\n\n\n­\n\n\n\n\n\n\n\n\n\n\n\n\nCasa Fuerte Bezmiliana | 18:30 horas | Entrada libre hasta completar aforo.\n\n\n\n\n­\n\n\n\n\n\n\n\n\n\n\n\n\nEl próximo jueves 23 de abril\, Francisco Javier Rodríguez Barranco presenta su libro ‘Esa fantasía es muy cara\, rey’ en Casa Fuerte Bezmiliana.  \nUna ocasión para conocer de la mano del autor esta novela negra ambientada en los años 90\, que desarrolla distintas tramas a través de sus personajes en unas coordenadas geográficas singulares. \n\n\n\n\n­\n\n\n\n\n\n\n\n\n\n\n\n\n\n\n\n\n\n\n\n\n\n\n\n\n\n\n\n\n\n\n\n\n\n\n\n\n\n\n\n\n\n\n\n\n\n\n\n\n\n\n\n\n\nViernes 24 de abril \n\n\n\n\n\n\n\n\n\n\n‘Fenómenos para-anormales’ – Francisco Barba Cañete.\n\n\n\n\n­\n\n\n\n\n\n\n\n\n\n\n\n\nCasa Fuerte Bezmiliana | 18:30 horas | Entrada libre hasta completar aforo.\n\n\n\n\n­\n\n\n\n\n\n\n\n\n\n\n\n\nCasa Fuerte Bezmiliana acogerá el próximo viernes 24 de abril la presentación del libro ‘Fenómenos para-anormales’\, de Francisco Barba Cañete. \nUn ensayo en el que el autor reflexiona sobre el auge de las pseudociencias\, lo esotérico y las teorías conspirativas en la sociedad actual\, analizando por qué este tipo de creencias siguen teniendo presencia e influencia en pleno siglo XXI. \n\n\n\n\n­\n\n\n\n\n\n\n\n\n\n\n\n\n\n\n\n\n\n\n\n\n\n\n\n\n\n\n\n\n\n\n\n\n\n\n\n\n\n\n\n\nBook Truck\n\n\n\n\n\n\n\n\n\n\n\n\n\n\n\n\n\n\n\n\n\n\n\n\n\n\n\n\n\n\n\n\n\n\n\n\n\n\n\n\n\n\n\n\n\n\n\n\n\n\n\n\n\n\n\nDomingo 26 de abril \n\n\n\n\n\n\n\n\n\n\n‘Donde sueñan las palabras’ – Seño de los Cuentos.\n\n\n\n\n­\n\n\n\n\n\n\n\n\n\n\n\n\nParque Huerta Julián | De 19:00 20:00 horas.\n\n\n\n\n­\n\n\n\n\n\n\n\n\n\n\n\n\nLa Seño de los Cuentos traerá el domingo 26 de abril al parque Huerta Julián ‘Donde sueñan las palabras’\, una experiencia inmersiva para acercar el universo de los libros y alimentar la imaginación a cualquier edad. \nUna Book Truck que incluye talleres\, cuentacuentos\, juegos\, arte en vivo e incluso puestos de venta de libros\, en un espacio en el que la lectura se vive como una experiencia para mirar\, escuchar\, crear\, sentir e imaginar. \n\n\n\n\n­\n\n\n\n\n\n\n\n\n\n\n\n\n\n\n\n\n\n\n\n\n\n\n\n\n\n\n\n\n\n\n\n\n\n\n\n\n\n\n\n\nDe la Escuela al Teatro\n\n\n\n\n\n\n\n\n\n\n\n\n\n\n\n\n\n\n\n\n\n\n\n\n\n\n\n\n\n\n\n\n\n\n\n\n\n\n\n\n\n\n\n\n\n\n\n\n\n\n\n\n\n\n\nViernes 24 de abril \n\n\n\n\n\n\n\n\n\n\n‘Gitano’ – Bosco Vida y Tatiana Saceda.\n\n\n\n\n­\n\n\n\n\n\n\n\n\n\n\n\n\nSala Las Musas (La Cala del Moral) | 20:30 horas | Entrada libre hasta completar aforo.\n\n\n\n\n­\n\n\n\n\n\n\n\n\n\n\n\n\nEste viernes 24 de abril\, la Sala Las Musas será escenario de ‘Gitano’\, una pieza de Bosco Vida con la colaboración de Tatiana Saceda. \nA través de historias\, cuentos y poemas inspirados en el mundo gitano\, y con motivo del Día del Libro\, el escenario se convierte en un espacio vivo donde tradición y emoción se entrelazan en un recorrido por relatos compartidos que han viajado de generación en generación\, en un homenaje a la fuerza de la palabra y a la riqueza de la cultura popular. \n\n\n\n\n­\n\n\n\n\n\n\n\n\n\n\n\n\n\n\n\n\n\n\n\n\n\n\n\n\n\n\n\n\n\n\n\n\n\n\n\n\n\n\n\n\n\n\n\n\n\n\n\n\n\n\n\n\n\nSábado 25 de abril \n\n\n\n\n\n\n\n\n\n\n‘Letras con encanto’ – Coral El Castillo y Cía. de Teatro Helarte.\n\n\n\n\n­\n\n\n\n\n\n\n\n\n\n\n\n\nSala Las Musas (La Cala del Moral) | 20:30 horas | Entrada libre hasta completar aforo.\n\n\n\n\n­\n\n\n\n\n\n\n\n\n\n\n\n\nCoral El Castillo y la Compañía de Teatro Helarte estarán este sábado 25 de abril en la Sala Las Musas con ‘Letras con encanto’. \nUn espectáculo que entrelaza interpretación teatral y voz\, en un viaje donde la palabra se convierte en emoción y los textos cobran vida sobre el escenario. \n\n\n\n\n­\n\n\n\n\n\n\n\n\n\n\n\n\n\n\n\n\n\n\n\n\n\n\n\n\n\n\n\n\n\n\n\n\n\n\n\n\n\n\n\n\n\n\n\n\n\n\n\n\n\n\n\n\n\nDomingo 26 de abril \n\n\n\n\n\n\n\n\n\n\n‘El baile de las princesas’ – Escuela Shabanna Bellydance.\n\n\n\n\n­\n\n\n\n\n\n\n\n\n\n\n\n\nSala Las Musas (La Cala del Moral) | 12:00 horas | Entrada libre hasta completar aforo.\n\n\n\n\n­\n\n\n\n\n\n\n\n\n\n\n\n\nLa Sala Las Musas acogerá el domingo 26 de abril el espectáculo ‘El baile de las princesas’\, a cargo de la escuela Shabanna Bellydance\, con la voz de Ana Carina. \nUna propuesta para disfrutar en familia de un reino secreto lleno de danza\, música y fantasía\, donde las princesas cobran vida sobre el escenario. \n\n\n\n\n­\n\n\n\n\n\n\n\n\n\n\n\n\n\n\n\n\n\n\n\n\n\n\n\n\n\n\n\n\n\n\n\n\n\n\n\n\n\n\n\n\nSemana Cultural de Benagalbón\n\n\n\n\n\n\n\n\n\n\n\n\n\n\n\n\n\n\n\n\n\n\n\n\n\n\n\n\n\n\n\n\n\n\n\n\n\n\n\n\n\n\n\n\n\n\n\n\n\n\n\n\n\n\n\nDel 24 de abril al 3 de mayo \n\n\n\n\n\n\n\n\n\n\nXLVII Semana Cultural de Benagalbón.\n\n\n\n\n­\n\n\n\n\n\n\n\n\n\n\n\n\nBenagalbón celebra la XLVII edición de su Semana Cultural del 24 de abril al 3 de mayo. \nLa programación contempla más de 30 actividades para todos los públicos y edades. \n\n\n\n\n­\n\n\n\n\n\n\n\n\n\n\n\n\n\n\n\n\n\n\n\n\n\n\n\n\n\n\n\n\n\n\n\n\n\n\n\n\n\n\n\n\n\n\n\n\n\n\n\n\n\n\n\n\n\nSábado 25 de abril \n\n\n\n\n\n\n\n\n\n\nXXIII Certamen de Pintura Joven al Aire Libre “Paco Alonso – Fundación Unicaja”.\n\n\n\n\n­\n\n\n\n\n\n\n\n\n\n\n\n\nCalles de Benagalbón | \n10:00 horas.\n\n\n\n\n­\n\n\n\n\n\n\n\n\n\n\n\n\nEl sábado 25 de abril\, Benagalbón celebra el XXIII Certamen de Pintura al Aire Libre “Paco Alonso – Fundación Unicaja”\, enmarcado en su XLVII Semana Cultural. \nLas obras deberán plasmar paisajes\, visiones\, aspectos e interpretación plástica del pueblo de Benagalbón. \nLas personas interesadas podrán inscribirse a través del correo semanaculturalbenagalbon22@gmail.com\, el WhatsApp 654 861 443 o de forma presencial el mismo día del evento.  \n\n\n\n\n­\n\n\n\n\n\n\n\n\n\n\n\n\n\n\n\n\n\n\n\n\n\n\n\n\n\n\n\n\n\n\n\n\n\n\n\n\n\n\n\n\nExposiciones\n\n\n\n\n\n\n\n\n\n\n\n\n\n\n\n\n\n\n\n\n\n\n\n\n\n\n\n\n\n\n\n\n\n\n\n\n\n\n\n\n\n\n\n\n\n\n\n\n\n\n\n\n\n\n\nHasta el 10 de mayo \n\n\n\n\n\n\n\n\n\n\n‘La distancia entre una luciérnaga y un rayo’ – Mayal.\n\n\n\n\n­\n\n\n\n\n\n\n\n\n\n\n\n\nCasa Fuerte Bezmiliana | \nmartes a sábados de 10:30 a 13:30 horas y de 17:00 a 20:00 horas; domingos de 11:00 a 13:30 horas; lunes y festivos cerrado | Acceso libre hasta completar aforo.\n\n\n\n\n­\n\n\n\n\n\n\n\n\n\n\n\n\nYa está disponible la exposición ‘La distancia entre una luciérnaga y un rayo’\, de Mayal\, en la Casa Fuerte Bezmiliana. \nUna muestra de carácter abstracto que presenta un conjunto de obras centradas en el uso del color\, la forma y la composición. \nLa exposición podrá visitarse hasta el próximo 10 de mayo. \n\n\n\n\n­\n\n\n\n\n\n\n\n\n\n\n\n\n\n\n\n\n\n\n\n\n\n\n\n\n\n\n\n\n\n\n\n\n\n\n\n\n\n\n\n\n\n\n\n\n\n\n\n\n\n\n\n\n\nHasta el 3 de mayo \n\n\n\n\n\n\n\n\n\n\n‘Átomos’ – Mark Simon.\n\n\n\n\n­\n\n\n\n\n\n\n\n\n\n\n\n\nSala Mare Nostrum – La Cala del Moral | martes a sábados de 10:30 a 13:30 horas y de 17:00 a 20:00 horas; domingos de 11:00 a 13:30 horas; lunes y festivos cerrado | Acceso libre hasta completar aforo.\n\n\n\n\n­\n\n\n\n\n\n\n\n\n\n\n\n\nLa Sala Mare Nostrum acoge la exposición ‘Átomos’\, de Mark Simon. \nUna muestra compuesta por una selección de obras abstractas\, dividida en dos partes\, cuyas piezas se construyen a partir de la simetría\, la definición y los círculos\, invitando al visitante a reflexionar sobre la existencia y la dimensión \n\n\n\n\n\n\n\n\n\n\n\n\n\n\n\n\n\n\n\n\n\n\n	\n		\n							\n					\n						\n																	\n				\n							\n					\n						\n																	\n				\n							\n					\n						\n																	\n				\n							\n					\n						\n																	\n				\n							\n					\n						\n																	\n				\n										\n					\n						\n					\n				\n								\n	\n\n
URL:https://axarquiacostadelsol.es/evento/agenda-cultural-de-rincon-de-la-victoria-3/
LOCATION:Rincón de la Victoria\, Rincón de la Victoria\, Málaga\, 29730\, España
CATEGORIES:Agenda Cultural
ORGANIZER;CN="Ayuntamiento%20de%20Rinc%C3%B3n%20de%20la%20Victoria":MAILTO:952 402 300
END:VEVENT
END:VCALENDAR