BEGIN:VCALENDAR
VERSION:2.0
PRODID:-//APTA - Axarquía Costa del Sol - ECPv5.1.1//NONSGML v1.0//EN
CALSCALE:GREGORIAN
METHOD:PUBLISH
X-WR-CALNAME:APTA - Axarquía Costa del Sol
X-ORIGINAL-URL:https://axarquiacostadelsol.es
X-WR-CALDESC:Eventos para APTA - Axarquía Costa del Sol
BEGIN:VTIMEZONE
TZID:UTC
BEGIN:STANDARD
TZOFFSETFROM:+0000
TZOFFSETTO:+0000
TZNAME:UTC
DTSTART:20260101T000000
END:STANDARD
END:VTIMEZONE
BEGIN:VEVENT
DTSTART;VALUE=DATE:20260313
DTEND;VALUE=DATE:20260315
DTSTAMP:20260421T111518
CREATED:20260306T115623Z
LAST-MODIFIED:20260306T115623Z
UID:33821-1773360000-1773532799@axarquiacostadelsol.es
SUMMARY:Ruta de la tapa en Periana
DESCRIPTION:🍴 ¡DE TAPAS POR PERIANA! 🍻\n¡Atención\, foodies!\n📢 Los días 13 y 14 de marzo llega la III Ruta de la Tapa de Periana.\n🥘✨ Por solo 2\,50 € la tapa\, podrás disfrutar de lo mejor de nuestra gastronomía local en más de 12 establecimientos increíbles:\n📍 Casalola • El Balneario • Caserón de Guaro • Verdugo • El Galeno • Atrevido Burguers • Pub “La Roca” • Loft95 • Erkarpin • Taberna de Cati • Pizzería Ellen • Finca Oasis Las Palmeras • Cantueso.\n¡Planazo de fin de semana para disfrutar con amigos o familia! 💃🕺 ¿A cuál vas a ir primero? 👇\nPeriana in English Punto Vuela Periana Ayuntamiento de Periana Cantueso Cottages Periana\n#Periana #RutaDeLaTapa #Tapas #Gastronomía #Axarquía #Sabor \n\n	\n		\n							\n					\n						\n																	\n				\n							\n					\n						\n																	\n				\n							\n					\n						\n																	\n				\n							\n					\n						\n																	\n				\n							\n					\n						\n																	\n				\n										\n					\n						\n					\n				\n								\n	\n\n
URL:https://axarquiacostadelsol.es/evento/ruta-de-la-tapa-en-periana/
LOCATION:Plaza de Andalucía de Periana\, Plaza de Andalucía\, Periana\, Periana\, Málaga\, 29710\, España
CATEGORIES:Fiestas gastronómicas
ATTACH;FMTTYPE=image/jpeg:https://axarquiacostadelsol.es/wp-content/uploads/2026/03/646806068_1304471341731151_4735650634550755135_n.jpg
ORGANIZER;CN="Ayuntamiento%20de%20Periana":MAILTO:ayuntamiento@periana.es
END:VEVENT
END:VCALENDAR