BEGIN:VCALENDAR
VERSION:2.0
PRODID:-//APTA - Axarquía Costa del Sol - ECPv5.1.1//NONSGML v1.0//EN
CALSCALE:GREGORIAN
METHOD:PUBLISH
X-WR-CALNAME:APTA - Axarquía Costa del Sol
X-ORIGINAL-URL:https://axarquiacostadelsol.es
X-WR-CALDESC:Eventos para APTA - Axarquía Costa del Sol
BEGIN:VTIMEZONE
TZID:UTC
BEGIN:STANDARD
TZOFFSETFROM:+0000
TZOFFSETTO:+0000
TZNAME:UTC
DTSTART:20260101T000000
END:STANDARD
END:VTIMEZONE
BEGIN:VEVENT
DTSTART;VALUE=DATE:20260418
DTEND;VALUE=DATE:20260419
DTSTAMP:20260422T094404
CREATED:20260416T102052Z
LAST-MODIFIED:20260416T102052Z
UID:34165-1776470400-1776556799@axarquiacostadelsol.es
SUMMARY:TahonaFest 2026 en Comares 🏔️🎶
DESCRIPTION:El próximo 18 de abril se celebra en Comares una nueva edición del TahonaFest. \nLa entrada es gratuita e incluye una variada programación musical y de ocio. \n🎼 Conciertos\n🥾 Senderismo musical y Tirolina.\n🎨 Talleres y actividades infantiles.\n⛺ Zona de camping disponible. \n📍 Lugar: Comares.\n🎟️ Entrada: Libre. \nExcmo.Ayuntamiento de Comares Oficina de Turismo Comares #concierto #senderismo #naturaleza #talleres \n\n	\n		\n							\n					\n						\n																	\n				\n							\n					\n						\n																	\n				\n							\n					\n						\n																	\n				\n							\n					\n						\n																	\n				\n							\n					\n						\n																	\n				\n										\n					\n						\n					\n				\n								\n	\n\n
URL:https://axarquiacostadelsol.es/evento/tahonafest-2026-en-comares-%f0%9f%8f%94%ef%b8%8f%f0%9f%8e%b6/
LOCATION:Comares\, Comares\, 952 509 233\, 29195\, España
CATEGORIES:comares,Eventos musicales y conciertos,Música
ATTACH;FMTTYPE=image/jpeg:https://axarquiacostadelsol.es/wp-content/uploads/2026/04/WhatsApp-Image-2026-04-16-at-09.51.15.jpeg
ORGANIZER;CN="Ayuntamiento%20de%20Comares":MAILTO:ayuntamiento@comares.es
END:VEVENT
END:VCALENDAR