BEGIN:VCALENDAR
VERSION:2.0
PRODID:-//APTA - Axarquía Costa del Sol - ECPv5.1.1//NONSGML v1.0//EN
CALSCALE:GREGORIAN
METHOD:PUBLISH
X-WR-CALNAME:APTA - Axarquía Costa del Sol
X-ORIGINAL-URL:https://axarquiacostadelsol.es
X-WR-CALDESC:Eventos para APTA - Axarquía Costa del Sol
BEGIN:VTIMEZONE
TZID:UTC
BEGIN:STANDARD
TZOFFSETFROM:+0000
TZOFFSETTO:+0000
TZNAME:UTC
DTSTART:20250101T000000
END:STANDARD
END:VTIMEZONE
BEGIN:VEVENT
DTSTART;VALUE=DATE:20251118
DTEND;VALUE=DATE:20251119
DTSTAMP:20260421T001352
CREATED:20251112T123912Z
LAST-MODIFIED:20251112T123912Z
UID:32975-1763424000-1763510399@axarquiacostadelsol.es
SUMMARY:Taller Factura Electrónica Cumple con la Normativa
DESCRIPTION:📣 Taller Factura Electrónica Cumple con la Normativa \n✅ Círculo de Empresarios de Costa del Sol organiza un taller esencial para tu negocio. \n¡Asegura que tu facturación esté al día con la ley! \nDetalles del Evento\n🔈Ponente: Pablo Domato\, CEO de CNGestión.\n📅 Martes\, 18 de noviembre de 2025.\n⏰16:00h a 18:00h\n📍Asociación Recreativa y Cultural “LA PEÑA” (Pl. Carmelitas\, 9\, Vélez – Málaga).\n❤️Taller gratuito \nLa facturación electrónica está cambiando\, y es crucial conocer la normativa para evitar problemas. Aprovecha esta oportunidad de formación de la mano de un experto. \n✅ Plazas limitadas \n🌐 Enlace a inscripcion: https://forms.gle/DVTV3LjNT11CgrxHA\n📞 Llama o envía un WhatsApp: 951 214 246 / 613 44 69 26\n📧 Escribe a: ce@cecostadelsol.es \n\n	\n		\n							\n					\n						\n																	\n				\n							\n					\n						\n																	\n				\n							\n					\n						\n																	\n				\n							\n					\n						\n																	\n				\n							\n					\n						\n																	\n				\n										\n					\n						\n					\n				\n								\n	\n\n
URL:https://axarquiacostadelsol.es/evento/taller-factura-electronica-cumple-con-la-normativa/
LOCATION:Plaza de Las Carmelitas\, Plaza de las Carmelitas\, Málaga\, Málaga\, 29700\, España
CATEGORIES:Ponencias
ATTACH;FMTTYPE=image/jpeg:https://axarquiacostadelsol.es/wp-content/uploads/2025/11/TCEA.jpeg
ORGANIZER;CN="Ayuntamiento%20de%20V%C3%A9lez-M%C3%A1laga":MAILTO:oac@velezmalaga.es
END:VEVENT
END:VCALENDAR