BEGIN:VCALENDAR
VERSION:2.0
PRODID:-//APTA - Axarquía Costa del Sol - ECPv5.1.1//NONSGML v1.0//EN
CALSCALE:GREGORIAN
METHOD:PUBLISH
X-WR-CALNAME:APTA - Axarquía Costa del Sol
X-ORIGINAL-URL:https://axarquiacostadelsol.es
X-WR-CALDESC:Eventos para APTA - Axarquía Costa del Sol
BEGIN:VTIMEZONE
TZID:UTC
BEGIN:STANDARD
TZOFFSETFROM:+0000
TZOFFSETTO:+0000
TZNAME:UTC
DTSTART:20250101T000000
END:STANDARD
END:VTIMEZONE
BEGIN:VEVENT
DTSTART;VALUE=DATE:20251123
DTEND;VALUE=DATE:20251124
DTSTAMP:20260421T014456
CREATED:20251118T101549Z
LAST-MODIFIED:20251118T101549Z
UID:33036-1763856000-1763942399@axarquiacostadelsol.es
SUMMARY:Teatro familiar 23 de noviembre en Sala las Musas\, Rincón de la Victoria
DESCRIPTION:TEATRO FAMILIAR | 🐨 Este domingo\, 23 de noviembre\, los más pequeños podrán disfrutar de una mañana de teatro familiar con ‘Manuela\, la koala’\, una propuesta de La Perrera que llegará a la Sala Las Musas. \nCon la historia de una koala que un día decide bajar del árbol\, el espectáculo ofrece una narración divertida\, poética y cercana que transmite un valioso mensaje sobre diversidad e igualdad. \n📅 Domingo 23 de noviembre.\n🕛 12:00 horas.\n📍 Sala Las Musas.\n🎟️ Entrada libre hasta completar aforo. \n\n	\n		\n							\n					\n						\n																	\n				\n							\n					\n						\n																	\n				\n							\n					\n						\n																	\n				\n							\n					\n						\n																	\n				\n							\n					\n						\n																	\n				\n										\n					\n						\n					\n				\n								\n	\n\n
URL:https://axarquiacostadelsol.es/evento/teatro-familiar-23-de-noviembre-en-sala-las-musas-rincon-de-la-victoria/
LOCATION:Sala las Musas – Cala del Moral\, Pl. Gloria Fuertes\, 9\, La Cala del Moral\, Málaga\, 29720
CATEGORIES:Teatro
ATTACH;FMTTYPE=image/jpeg:https://axarquiacostadelsol.es/wp-content/uploads/2025/11/WhatsApp-Image-2025-11-17-at-18.43.58.jpeg
ORGANIZER;CN="Excmo.%20Ayto.%20Rinc%C3%B3n%20de%20la%20Victoria":MAILTO:M: alcaldia@rincondelavictoria.es
END:VEVENT
END:VCALENDAR