BEGIN:VCALENDAR
VERSION:2.0
PRODID:-//APTA - Axarquía Costa del Sol - ECPv5.1.1//NONSGML v1.0//EN
CALSCALE:GREGORIAN
METHOD:PUBLISH
X-WR-CALNAME:APTA - Axarquía Costa del Sol
X-ORIGINAL-URL:https://axarquiacostadelsol.es
X-WR-CALDESC:Eventos para APTA - Axarquía Costa del Sol
BEGIN:VTIMEZONE
TZID:UTC
BEGIN:STANDARD
TZOFFSETFROM:+0000
TZOFFSETTO:+0000
TZNAME:UTC
DTSTART:20250101T000000
END:STANDARD
END:VTIMEZONE
BEGIN:VEVENT
DTSTART;VALUE=DATE:20251108
DTEND;VALUE=DATE:20251109
DTSTAMP:20260420T235856
CREATED:20251020T125510Z
LAST-MODIFIED:20251020T125510Z
UID:32738-1762560000-1762646399@axarquiacostadelsol.es
SUMMARY:XXI FESTIVAL ITINERANTE DE VERDIALES SÁBADO 8 DE NOVIEMBRE - Hora: 18:00 H
DESCRIPTION:🎶 XXI FESTIVAL ITINERANTE DE VERDIALES 💃 \nColmenar se prepara para acoger este tradicional evento que celebra la cultura del verdial. \n🗓️ SÁBADO 8 DE NOVIEMBRE\n📍 Lugar: Piscina Municipal\n⏰ Hora: 18:00 H \n🎉 PROGRAMACIÓN: \n🚶‍♂️ Pasacalle \nDesde el Polideportivo “La Cruz” \nA las 17:30 H \n🎤 Presenta el acto: \nEl Exmo. Miguel Leiva \n  \n  \n🥁 PANDAS DE VERDIALES PARTICIPANTES: \nEstilo Montes:\nEscuela de Colmenar\nSantón Pítar\nPrimera del Puerto\nEstilo Comares:\nRaíces de Málaga\nEl Borge\nEstilo Almogía:\nEl Sexmo\nLos Moras\nLos Lagares \n¡Un día para disfrutar de la música\, el baile y la tradición de los verdiales en Colmenar! 🥳 \nPatrocinan y Colaboran: Ayuntamiento de Colmenar\, Diputación Provincial de Málaga\, Escuela de Verdiales de Colmenar\, ASCOL\, Federación Provincial de Pandas de Verdiales\, Culturama. \n#FestivalVerdiales #Colmenar #MúsicaTradicional #Folclore #Andalucía #Cultura \n\n	\n		\n							\n					\n						\n																	\n				\n							\n					\n						\n																	\n				\n							\n					\n						\n																	\n				\n							\n					\n						\n																	\n				\n							\n					\n						\n																	\n				\n										\n					\n						\n					\n				\n								\n	\n\n
URL:https://axarquiacostadelsol.es/evento/xxi-festival-itinerante-de-verdiales-sabado-8-de-noviembre-hora-1800-h/
LOCATION:Colmenar\, Colmenar\, Málaga\, 29170
ATTACH;FMTTYPE=image/jpeg:https://axarquiacostadelsol.es/wp-content/uploads/2025/10/564045000_1193821876129432_2581225044023750365_n.jpg
ORGANIZER;CN="Ayuntamiendo%20de%20Colmenar":MAILTO:ayuntamiento@colmenar.es
END:VEVENT
END:VCALENDAR