BEGIN:VCALENDAR
VERSION:2.0
PRODID:-//APTA - Axarquía Costa del Sol - ECPv5.1.1//NONSGML v1.0//EN
CALSCALE:GREGORIAN
METHOD:PUBLISH
X-WR-CALNAME:APTA - Axarquía Costa del Sol
X-ORIGINAL-URL:https://axarquiacostadelsol.es
X-WR-CALDESC:Eventos para APTA - Axarquía Costa del Sol
BEGIN:VTIMEZONE
TZID:UTC
BEGIN:STANDARD
TZOFFSETFROM:+0000
TZOFFSETTO:+0000
TZNAME:UTC
DTSTART:20250101T000000
END:STANDARD
END:VTIMEZONE
BEGIN:VEVENT
DTSTART;VALUE=DATE:20251003
DTEND;VALUE=DATE:20251121
DTSTAMP:20260422T075349
CREATED:20251003T105300Z
LAST-MODIFIED:20251118T113028Z
UID:32489-1759449600-1763683199@axarquiacostadelsol.es
SUMMARY:Agenda Cultural de Vélez-Málaga hasta el 27 de noviembre
DESCRIPTION:Descargar \n\n
URL:https://axarquiacostadelsol.es/evento/agenda-cultural-de-velez-malaga-octubre/
LOCATION:Vélez-Málaga\, Plaza Carmelitas\, 12\, Vélez-Málaga\, Málaga\, 29700\, España
CATEGORIES:Programación Cultural
ORGANIZER;CN="Ayuntamiento%20de%20V%C3%A9lez-M%C3%A1laga":MAILTO:oac@velezmalaga.es
END:VEVENT
END:VCALENDAR