BEGIN:VCALENDAR
VERSION:2.0
PRODID:-//APTA - Axarquía Costa del Sol - ECPv5.1.1//NONSGML v1.0//EN
CALSCALE:GREGORIAN
METHOD:PUBLISH
X-WR-CALNAME:APTA - Axarquía Costa del Sol
X-ORIGINAL-URL:https://axarquiacostadelsol.es
X-WR-CALDESC:Eventos para APTA - Axarquía Costa del Sol
BEGIN:VTIMEZONE
TZID:UTC
BEGIN:STANDARD
TZOFFSETFROM:+0000
TZOFFSETTO:+0000
TZNAME:UTC
DTSTART:20250101T000000
END:STANDARD
END:VTIMEZONE
BEGIN:VEVENT
DTSTART;VALUE=DATE:20251003
DTEND;VALUE=DATE:20251121
DTSTAMP:20260422T014732
CREATED:20251003T105300Z
LAST-MODIFIED:20251118T113028Z
UID:32489-1759449600-1763683199@axarquiacostadelsol.es
SUMMARY:Agenda Cultural de Vélez-Málaga hasta el 27 de noviembre
DESCRIPTION:Descargar \n\n
URL:https://axarquiacostadelsol.es/evento/agenda-cultural-de-velez-malaga-octubre/
LOCATION:Vélez-Málaga\, Plaza Carmelitas\, 12\, Vélez-Málaga\, Málaga\, 29700\, España
CATEGORIES:Programación Cultural
ORGANIZER;CN="Ayuntamiento%20de%20V%C3%A9lez-M%C3%A1laga":MAILTO:oac@velezmalaga.es
END:VEVENT
BEGIN:VEVENT
DTSTART;VALUE=DATE:20251031
DTEND;VALUE=DATE:20251102
DTSTAMP:20260422T014732
CREATED:20251030T110213Z
LAST-MODIFIED:20251030T110213Z
UID:32833-1761868800-1762041599@axarquiacostadelsol.es
SUMMARY:Halloween 2025 en Mezquitilla y Lagos 31 de octubre
DESCRIPTION:👻 Halloween 2025 en Mezquitilla y Lagos: ¡Una Tarde de Diversión y Miedo para Todos! 🎃 \nLa zona de Mezquitilla y Lagos se prepara para celebrar una jornada de Halloween repleta de actividades para toda la familia el próximo 31 de octubre de 2025. El evento\, organizado con la colaboración de una asociación local\, promete una tarde terroríficamente divertida en las inmediaciones del edificio de la Tenencia. \nLa programación está diseñada para que tanto pequeños como adultos puedan disfrutar de la atmósfera de la noche de brujas: \n⏱️ Programación del Evento\nHora aprox.\n17:00 H. Cata a Ciegas: Infantil 🍬 Los más pequeños\n17:00 H. Cata a Ciegas: Adulto 🍽️ Adultos\n18:30 H. Pasaje del Terror: Primer Pase Infantil 👧👦 Adaptado para los niños\n18:30 H. Pasaje del Terror 🧟‍♂️ A continuación del pase infantil \n🎉 Actividades Continuas y Sorpresas \nDurante toda la tarde\, a partir de las 17:00 horas\, los asistentes podrán disfrutar de una serie de atracciones y degustaciones: \nCastillo Hinchable: ¡Saltos y diversión asegurada! 🏰 \nToro Mecánico: ¿Quién aguantará más tiempo? 🐂 \nDegustación de Batatas y Chocolates: Para reponer energías. 🍠🍫 \n¡Y Más Sorpresas por la Asociación! 🎁 \nLa fiesta de Halloween busca ser un punto de encuentro familiar y vecinal\, combinando el miedo de las tradiciones con actividades lúdicas y gastronómicas. La cita es en la Tenencia de Alcaldía\, donde se invita a vecinos y visitantes a participar en esta tarde llena de sustos y alegría. \n
URL:https://axarquiacostadelsol.es/evento/halloween-2025-en-mezquitilla-y-lagos-31-de-octubre/
LOCATION:Mezquitilla\, Mezquitilla\, Málaga\, 29760
ATTACH;FMTTYPE=image/jpeg:https://axarquiacostadelsol.es/wp-content/uploads/2025/10/CARTEL-HALLOWEEN-LAGOS-2025.jpg
END:VEVENT
BEGIN:VEVENT
DTSTART;VALUE=DATE:20251031
DTEND;VALUE=DATE:20260101
DTSTAMP:20260422T014732
CREATED:20251031T123759Z
LAST-MODIFIED:20251031T123759Z
UID:32840-1761868800-1767225599@axarquiacostadelsol.es
SUMMARY:۞ Centro de Interpretación de la Alquería de Cútar y sus manuscritos andalusíes. 📜🏛️
DESCRIPTION:۞ Centro de Interpretación de la Alquería de Cútar y sus manuscritos andalusíes. 📜🏛️\n🕒 Horario • Sábados y domingos:\n11:00 a 14:00h y 16:00 a 18:00h\n📍 Cútar\, Málaga ⛲\nVisitas guiadas: 697 70 37 56 📲\nSi estás interesado en visitarnos o en organizar una experiencia en grupo a Cútar\, puedes contactar con nosotros a través de nuestro mail: centroalqueriadecutar@gmail.com 📩— en Pueblo de Cútar. \n
URL:https://axarquiacostadelsol.es/evento/centro-de-interpretacion-de-la-alqueria-de-cutar-y-sus-manuscritos-andalusies/
LOCATION:Cútar\, Cútar\, Cútar\, Málaga\, 29718\, España
ATTACH;FMTTYPE=image/jpeg:https://axarquiacostadelsol.es/wp-content/uploads/2025/10/474185946_122131815584539401_7184611278288036413_n.jpg
ORGANIZER;CN="Excmo.%20Ayto.%20C%C3%BAtar":MAILTO:ayuntamiento@cutar.es
END:VEVENT
END:VCALENDAR