BEGIN:VCALENDAR
VERSION:2.0
PRODID:-//APTA - Axarquía Costa del Sol - ECPv5.1.1//NONSGML v1.0//EN
CALSCALE:GREGORIAN
METHOD:PUBLISH
X-WR-CALNAME:APTA - Axarquía Costa del Sol
X-ORIGINAL-URL:https://axarquiacostadelsol.es
X-WR-CALDESC:Eventos para APTA - Axarquía Costa del Sol
BEGIN:VTIMEZONE
TZID:UTC
BEGIN:STANDARD
TZOFFSETFROM:+0000
TZOFFSETTO:+0000
TZNAME:UTC
DTSTART:20250101T000000
END:STANDARD
END:VTIMEZONE
BEGIN:VEVENT
DTSTART;VALUE=DATE:20251031
DTEND;VALUE=DATE:20260101
DTSTAMP:20260421T174743
CREATED:20251031T123759Z
LAST-MODIFIED:20251031T123759Z
UID:32840-1761868800-1767225599@axarquiacostadelsol.es
SUMMARY:۞ Centro de Interpretación de la Alquería de Cútar y sus manuscritos andalusíes. 📜🏛️
DESCRIPTION:۞ Centro de Interpretación de la Alquería de Cútar y sus manuscritos andalusíes. 📜🏛️\n🕒 Horario • Sábados y domingos:\n11:00 a 14:00h y 16:00 a 18:00h\n📍 Cútar\, Málaga ⛲\nVisitas guiadas: 697 70 37 56 📲\nSi estás interesado en visitarnos o en organizar una experiencia en grupo a Cútar\, puedes contactar con nosotros a través de nuestro mail: centroalqueriadecutar@gmail.com 📩— en Pueblo de Cútar. \n
URL:https://axarquiacostadelsol.es/evento/centro-de-interpretacion-de-la-alqueria-de-cutar-y-sus-manuscritos-andalusies/
LOCATION:Cútar\, Cútar\, Cútar\, Málaga\, 29718\, España
ATTACH;FMTTYPE=image/jpeg:https://axarquiacostadelsol.es/wp-content/uploads/2025/10/474185946_122131815584539401_7184611278288036413_n.jpg
ORGANIZER;CN="Excmo.%20Ayto.%20C%C3%BAtar":MAILTO:ayuntamiento@cutar.es
END:VEVENT
BEGIN:VEVENT
DTSTART;VALUE=DATE:20251120
DTEND;VALUE=DATE:20251207
DTSTAMP:20260421T174743
CREATED:20251120T125722Z
LAST-MODIFIED:20251120T125722Z
UID:33103-1763596800-1765065599@axarquiacostadelsol.es
SUMMARY:Programación de navidad 2025-2026 de Almáchar
DESCRIPTION:Programación de navidad de Almáchar 2025-2026. \n\n		\n			#gallery-1 {\n				margin: auto;\n			}\n			#gallery-1 .gallery-item {\n				float: left;\n				margin-top: 10px;\n				text-align: center;\n				width: 50%;\n			}\n			#gallery-1 img {\n				border: 2px solid #cfcfcf;\n			}\n			#gallery-1 .gallery-caption {\n				margin-left: 0;\n			}\n			/* see gallery_shortcode() in wp-includes/media.php */\n		\n		\n			\n				\n			\n			\n				\n			\n		\n\n
URL:https://axarquiacostadelsol.es/evento/programacion-de-navidad-2025-2026-de-almachar/
LOCATION:Almáchar\, Almáchar\, Málaga\, 29718\, España
ATTACH;FMTTYPE=image/jpeg:https://axarquiacostadelsol.es/wp-content/uploads/2025/11/584905031_1231508055672983_8436974994038106955_n.jpg
END:VEVENT
BEGIN:VEVENT
DTSTART;VALUE=DATE:20251126
DTEND;VALUE=DATE:20251128
DTSTAMP:20260421T174743
CREATED:20251124T114825Z
LAST-MODIFIED:20251124T114905Z
UID:33110-1764115200-1764287999@axarquiacostadelsol.es
SUMMARY:Encuentro Internacional ALMA 2030 en Periana – 26 y 27 de noviembre
DESCRIPTION:\n		\n			#gallery-2 {\n				margin: auto;\n			}\n			#gallery-2 .gallery-item {\n				float: left;\n				margin-top: 10px;\n				text-align: center;\n				width: 50%;\n			}\n			#gallery-2 img {\n				border: 2px solid #cfcfcf;\n			}\n			#gallery-2 .gallery-caption {\n				margin-left: 0;\n			}\n			/* see gallery_shortcode() in wp-includes/media.php */\n		\n		\n			\n				\n			\n			\n				\n			\n		\n\nDesde la Asociación para la Promoción Turística de la Axarquía (APTA) queremos informar que los próximos días miércoles 26 y jueves 27 de noviembre tendrá lugar en Periana el Encuentro Internacional ALMA 2030\, un espacio para construir alianzas multiactor en favor del desarrollo y el turismo sostenible\n♻️ Dentro de las actividades previstas\, APTA Axarquía Costa del Sol participará en el panel de intercambio de experiencias sobre turismo sostenible\, compartiendo aprendizajes y buenas prácticas junto a otros actores internacionales.\n🌿 Como parte del programa\, el miércoles 26 de noviembre a las 17:30h se celebrará la inauguración del Centro de Interpretación del Olivo Milenario de Periana\, un recurso simbólico para potenciar el ecoturismo\, la memoria agrícola y la identidad olivarera del municipio\n📩 Puedes confirmar asistencia presencial u online aquí 👉 https://docs.google.com/forms/d/e/1FAIpQLScs1btIoSJEOGK4i1A17R2GXgTi7aK4IuIHmblZlO5hcsmnJQ/viewform?fbclid=IwY2xjawORJSRleHRuA2FlbQIxMABicmlkETBBUFEyVERHYVMxeFlRNFpuc3J0YwZhcHBfaWQQMjIyMDM5MTc4ODIwMDg5MgABHqqrO-Cqsp0tPUOScxJHFa8BdyuwAhFv1mX6OgjmzjvriRANADAPNN4KQ-cd_aem_hH_CYVC2QfqPUUnL8mIioA&pli=1 \n📅 Programa de las jornadas\nMIÉRCOLES 26 DE NOVIEMBRE\n🕠 17:30: Inauguración y visita al Centro de Interpretación del Olivo Milenario y la Cooperativa olivarera de Periana\n🕡 18:30: Acto institucional de apertura del Encuentro ALMA 2030 🤝 Participan: Ayuntamiento de Periana\, FEMP\, Ministerio de Agenda 2030\, ONU\, Diputación de Málaga\, Junta de Andalucía\, tejido empresarial\, asociativo y académico.\n🕢 19:30: Presentación Plan Periana 2030 y estrategia de Turismo Sostenible 🏅\n🕠 20:00: Entrega de Reconocimientos Periana 2030\nJUEVES 27 DE NOVIEMBRE\n🕙 10:00-11:45: Panel de intercambio de experiencias sobre Alianzas Multiactor. Moderador: Diputación de Córdoba\, Elías Casado.\nPresencia de:\n– Ayuntamiento de Móstoles: Jefa de Area Empresas y Emprendimiento\n– Ayuntamiento de Armilla: Técnico Responsable de Agenda 2030\n– Ayuntamiento de Segovia: Técnica de Agenda Urbana y Fondos Europeos\n– Cabildo de Gran Canaria: Director General de Participación Ciudadana\n– FELCOS Umbria Italia\n🕚 11:45-13:30: Panel de intercambio de experiencias sobre Turismo Sostenible 🌍 Moderador: Francisco Lorenzo Tapia: Médico Nutricionista y Experto en Oleoturismo\nPresencia de:\n– Ayuntamiento de Benetúser (Valencia)\, Livia Guillem Casañ\n– Cristina Ferreira Morales: Presidenta EJICPLP /Portugal-Angola\n– Francesco Serafini: Garden of Peace\n– Elisa Páez: Gerente de APTA (Asociación para la Promoción Turística de la Axarquía).\n– Marina López Fernández (secretaria del grupo espeleológico de la Axarquía)\n13:30: Clausura del encuentro \n
URL:https://axarquiacostadelsol.es/evento/encuentro-internacional-alma-2030-en-periana-26-y-27-de-noviembre/
LOCATION:Plaza de Andalucía de Periana\, Plaza de Andalucía\, Periana\, Periana\, Málaga\, 29710\, España
ATTACH;FMTTYPE=image/jpeg:https://axarquiacostadelsol.es/wp-content/uploads/2025/11/587192743_1275349637968056_2274296102532725968_n.jpg
ORGANIZER;CN="Ayuntamiento%20de%20Periana":MAILTO:ayuntamiento@periana.es
END:VEVENT
END:VCALENDAR