BEGIN:VCALENDAR
VERSION:2.0
PRODID:-//APTA - Axarquía Costa del Sol - ECPv5.1.1//NONSGML v1.0//EN
CALSCALE:GREGORIAN
METHOD:PUBLISH
X-WR-CALNAME:APTA - Axarquía Costa del Sol
X-ORIGINAL-URL:https://axarquiacostadelsol.es
X-WR-CALDESC:Eventos para APTA - Axarquía Costa del Sol
BEGIN:VTIMEZONE
TZID:UTC
BEGIN:STANDARD
TZOFFSETFROM:+0000
TZOFFSETTO:+0000
TZNAME:UTC
DTSTART:20250101T000000
END:STANDARD
END:VTIMEZONE
BEGIN:VEVENT
DTSTART;VALUE=DATE:20251128
DTEND;VALUE=DATE:20260228
DTSTAMP:20260421T133851
CREATED:20251128T105548Z
LAST-MODIFIED:20260421T105850Z
UID:31665-1764288000-1772236799@axarquiacostadelsol.es
SUMMARY:AGENDA CULTURAL VÉLEZ-MÁLAGA
DESCRIPTION:AGENDA CULTURAL DEL 16 DE ABRIL AL 2 DE MAYO DE 2026 \n
URL:https://axarquiacostadelsol.es/evento/agenda-cultural-velez-malaga/
LOCATION:Vélez-Málaga\, Plaza Carmelitas\, 12\, Vélez-Málaga\, Málaga\, 29700\, España
CATEGORIES:Agenda Cultural
ATTACH;FMTTYPE=image/jpeg:https://axarquiacostadelsol.es/wp-content/uploads/2025/09/VELEZ-MALAGA.jpg
ORGANIZER;CN="Ayuntamiento%20de%20V%C3%A9lez-M%C3%A1laga":MAILTO:oac@velezmalaga.es
END:VEVENT
BEGIN:VEVENT
DTSTART;VALUE=DATE:20260124
DTEND;VALUE=DATE:20260325
DTSTAMP:20260421T133851
CREATED:20260115T114542Z
LAST-MODIFIED:20260115T114542Z
UID:33428-1769212800-1774396799@axarquiacostadelsol.es
SUMMARY:Inauguración de la exposición "Pequeño Bosque" del 24 de enero al 24 de marzo
DESCRIPTION:¡Doble cita con el arte en Torrox! 🖼️✨ \nELDEVENIR Art Gallery celebra su 5º aniversario con la inauguración de “Pequeño Bosque”\, la nueva exposición de la pintora Irene Sánchez Moreno. 🌲 \n📅 Sábado 24 de enero 🕛 12:00 h \n📍 ELDEVENIR Art Gallery (Av. Isaac Albéniz\, 3\, Torrox) \nUna mañana para conmemorar cinco años de trayectoria y disfrutar del talento de la artista. 🥂 \n#Arte #Torrox #Exposicion #Cultura #Malaga #EldevenirArtGallery \n
URL:https://axarquiacostadelsol.es/evento/inauguracion-de-la-exposicion-pequeno-bosque-del-24-de-enero-al-24-de-marzo/
LOCATION:Torrox\, Torrox\, Málaga\, 29770\, España
CATEGORIES:Torrox
ATTACH;FMTTYPE=image/jpeg:https://axarquiacostadelsol.es/wp-content/uploads/2026/01/WhatsApp-Image-2026-01-14-at-22.50.53.jpeg
ORGANIZER;CN="Ayuntamiento%20de%20Torrox":MAILTO:ayuntamiento@torrox.es
END:VEVENT
BEGIN:VEVENT
DTSTART;VALUE=DATE:20260205
DTEND;VALUE=DATE:20260206
DTSTAMP:20260421T133851
CREATED:20260203T114426Z
LAST-MODIFIED:20260203T114426Z
UID:33520-1770249600-1770335999@axarquiacostadelsol.es
SUMMARY:Concierto Museo de Nerja del 5 de febrero
DESCRIPTION:🎶 ¡CONCIERTO GRATUITO EN EL MUSEO! 🎶 \nEste jueves tenemos una cita muy especial con el mejor folk internacional.\nEl dúo John and Lynne Ward llega al Museo de Nerja para regalarnos una tarde llena de buena música y talento. 🎸🪗 \n📍 ¿Dónde? Museo de Nerja (Plaza de España\, 4).\n📅 ¿Cuándo? Este jueves\, 5 de febrero.\n🕖 Hora: 19:00 H.\n🎟️ Entrada: ¡LIBRE! (Hasta completar aforo). \nNo te pierdas la oportunidad de disfrutar de la guitarra y el acordeón en un entorno único. ¡Ven con tus amigos y disfruta de la cultura! 🏛️✨ \n  \n
URL:https://axarquiacostadelsol.es/evento/concierto-museo-de-nerja-del-5-de-febrero/
LOCATION:Museo Cueva de Nerja\, Plaza de España\, 4\, Málaga\, Nerja\, 29780
CATEGORIES:Eventos musicales y conciertos
ATTACH;FMTTYPE=image/jpeg:https://axarquiacostadelsol.es/wp-content/uploads/2026/02/image001.jpg
ORGANIZER;CN="Ayuntamiento%20de%20Nerja":MAILTO:omac@nerja.es
END:VEVENT
END:VCALENDAR