BEGIN:VCALENDAR
VERSION:2.0
PRODID:-//APTA - Axarquía Costa del Sol - ECPv5.1.1//NONSGML v1.0//EN
CALSCALE:GREGORIAN
METHOD:PUBLISH
X-WR-CALNAME:APTA - Axarquía Costa del Sol
X-ORIGINAL-URL:https://axarquiacostadelsol.es
X-WR-CALDESC:Eventos para APTA - Axarquía Costa del Sol
BEGIN:VTIMEZONE
TZID:UTC
BEGIN:STANDARD
TZOFFSETFROM:+0000
TZOFFSETTO:+0000
TZNAME:UTC
DTSTART:20260101T000000
END:STANDARD
END:VTIMEZONE
BEGIN:VEVENT
DTSTART;VALUE=DATE:20260124
DTEND;VALUE=DATE:20260325
DTSTAMP:20260421T094616
CREATED:20260115T114542Z
LAST-MODIFIED:20260115T114542Z
UID:33428-1769212800-1774396799@axarquiacostadelsol.es
SUMMARY:Inauguración de la exposición "Pequeño Bosque" del 24 de enero al 24 de marzo
DESCRIPTION:¡Doble cita con el arte en Torrox! 🖼️✨ \nELDEVENIR Art Gallery celebra su 5º aniversario con la inauguración de “Pequeño Bosque”\, la nueva exposición de la pintora Irene Sánchez Moreno. 🌲 \n📅 Sábado 24 de enero 🕛 12:00 h \n📍 ELDEVENIR Art Gallery (Av. Isaac Albéniz\, 3\, Torrox) \nUna mañana para conmemorar cinco años de trayectoria y disfrutar del talento de la artista. 🥂 \n#Arte #Torrox #Exposicion #Cultura #Malaga #EldevenirArtGallery \n
URL:https://axarquiacostadelsol.es/evento/inauguracion-de-la-exposicion-pequeno-bosque-del-24-de-enero-al-24-de-marzo/
LOCATION:Torrox\, Torrox\, Málaga\, 29770\, España
CATEGORIES:Torrox
ATTACH;FMTTYPE=image/jpeg:https://axarquiacostadelsol.es/wp-content/uploads/2026/01/WhatsApp-Image-2026-01-14-at-22.50.53.jpeg
ORGANIZER;CN="Ayuntamiento%20de%20Torrox":MAILTO:ayuntamiento@torrox.es
END:VEVENT
BEGIN:VEVENT
DTSTART;TZID=UTC:20260206T080000
DTEND;TZID=UTC:20260301T170000
DTSTAMP:20260421T094616
CREATED:20260206T123733Z
LAST-MODIFIED:20260206T124804Z
UID:33543-1770364800-1772384400@axarquiacostadelsol.es
SUMMARY:Agenda Cultural de Rincón de la Victoria
DESCRIPTION:✨ CULTURA EN RINCÓN DE LA VICTORIA ✨\nApunta estos planes para disfrutar de la literatura y el arte en los próximos días: \n\n📖 PRESENTACIÓN DE LIBRO\nTítulo: ‘Mientras se quiebran las sombras’ de Maribel Rodiles Pardo.\nFecha: Viernes 6 de febrero a las 18:00 horas.\nLugar: Casa Fuerte Bezmiliana (Acceso libre hasta completar aforo). \n  \n  \n  \n  \n  \n🎨 EXPOSICIONES IMPRESCINDIBLES\n‘Entre Olas y Sueños’ de María José Paneque: Un viaje entre el mar y el mundo interior. Disponible en Casa Fuerte Bezmiliana hasta el 1 de marzo.\nPinturas de Santiago González Ruiz: Retratos y cubismo moderno con un lenguaje personal único. En la Sala Mare Nostrum (La Cala del Moral) hasta el 15 de febrero. \n  \n\n🧸 PROGRAMA DE CUENTACUENTOS ‘ABRA CADABRA’\nPróximas citas (Requieren reserva previa):\n12 de febrero: ‘Camuñas’ en la Biblioteca de Rincón de la Victoria (17:30h).\n18 de febrero: Encuentro y taller con Valeria Kiselova en la Biblioteca de Benagalbón (17:30h).\n19 de febrero: ‘Voy a comedte’ en la Biblioteca de La Cala del Moral (17:30h) \n
URL:https://axarquiacostadelsol.es/evento/agenda-cultural-de-rincon-de-la-victoria-2/
LOCATION:Rincón de la Victoria\, Rincón de la Victoria\, Málaga\, 29730\, España
CATEGORIES:Agenda Cultural
ATTACH;FMTTYPE=image/jpeg:https://axarquiacostadelsol.es/wp-content/uploads/2026/02/arX7LZWySLE1.jpeg
ORGANIZER;CN="Ayuntamiento%20de%20Rinc%C3%B3n%20de%20la%20Victoria":MAILTO:952 402 300
END:VEVENT
BEGIN:VEVENT
DTSTART;VALUE=DATE:20260209
DTEND;VALUE=DATE:20260306
DTSTAMP:20260421T094616
CREATED:20260209T114655Z
LAST-MODIFIED:20260209T114655Z
UID:33552-1770595200-1772755199@axarquiacostadelsol.es
SUMMARY:Conecta FP Axarquía 2026
DESCRIPTION:📢 Encuentros de Formación Profesional y Empresa\nLa Delegación Territorial de Desarrollo Educativo y FP de Málaga invita a participar en los Encuentros de Formación Profesional y Empresa\, una oportunidad estratégica para conectar con el futuro talento\, conocer de cerca la nueva FP y generar colaboraciones que aporten valor al tejido empresarial.\n📅 Conecta FP Axarquía 2026\nFecha: 5 de marzo de 2026\nLugar: Centro Cultural Nuestra Señora del Carmen (Antigua Azucarera)\, Torre del Mar.\nHorario: * 09:00 – 11:00 h: Sesión inaugural y encuentros.\nPausa Café\n11:30 – 14:00 h: Visita a los stands de los centros de FP.\n👉 Inscripción: https://forms.gle/JwrnaP3rEgyjRAQk7\nEsta jornada representa una ocasión clave para que las empresas identifiquen perfiles cualificados y refuercen sus vínculos con el ámbito formativo. \n#FPDual #Axarquia \n  \n
URL:https://axarquiacostadelsol.es/evento/conecta-fp-axarquia-2026/
LOCATION:Azucarera Torre del Mar\, Urbanizacion Azucarera N.s.carmen\, 1\, Torre del Mar\, Málaga\, 29740\, España
CATEGORIES:Ponencias,Talleres
ATTACH;FMTTYPE=image/png:https://axarquiacostadelsol.es/wp-content/uploads/2026/02/CARTEL-CONECTA-FP-AXARQUIA-2026.png
END:VEVENT
BEGIN:VEVENT
DTSTART;VALUE=DATE:20260211
DTEND;VALUE=DATE:20260309
DTSTAMP:20260421T094616
CREATED:20260211T122611Z
LAST-MODIFIED:20260211T122611Z
UID:33576-1770768000-1773014399@axarquiacostadelsol.es
SUMMARY:🎭 Carnavales 2026 en la Axarquía
DESCRIPTION:Nueva plataforma digital dedicada a las fiestas de Carnaval de este año. Ante la diversidad de fechas en la comarca\, presentamos un punto de referencia para consultar los eventos restantes.\nEn la web podrá ver:\n📅 Programación actualizada\n📍 Localización\n📋 Carteles\nInvitamos a residentes y visitantes a planificar sus visitas y conocer de cerca la riqueza cultural de nuestros pueblos a través del enlace:\n🔗 https://axarquiacostadelsol.es/carnavales2026/\nSi tiene algún cartel que falte\, 𝓮𝓷𝓿𝓲𝓮𝓷𝓸𝓼𝓵𝓸 y lo subiremos tan pronto como nos sea posible!\, gracias!\n#Axarquía #CostaDelSol #Carnaval2026 #Cultura #Turismo \n
URL:https://axarquiacostadelsol.es/evento/%f0%9f%8e%ad-carnavales-2026-en-la-axarquia/
LOCATION:Eventos Axárquicos\, Axarquía\, Málaga\, España
CATEGORIES:Carnavales
ATTACH;FMTTYPE=image/png:https://axarquiacostadelsol.es/wp-content/uploads/2026/02/Captura-de-pantalla-2026-02-11-125903.png
END:VEVENT
BEGIN:VEVENT
DTSTART;VALUE=DATE:20260220
DTEND;VALUE=DATE:20260302
DTSTAMP:20260421T094616
CREATED:20260213T112313Z
LAST-MODIFIED:20260213T112313Z
UID:33588-1771545600-1772409599@axarquiacostadelsol.es
SUMMARY:Ruta de la Cuchara
DESCRIPTION:🥘 Rincón de la Victoria celebra la Ruta de la Cuchara del 20 de febrero al 1 de marzo con 27 restaurantes y 3.700 euros en premios\nLa quinta edición de la Ruta de la Cuchara\, que contará este año con 27 restaurantes participantes\, ofrecerá una potente y variada oferta de platos de cuchara o guiso con una bebida (caña\, refresco o agua) a un precio de 4 euros 🍲\n👉Además\, los visitantes contarán con un rutero en el que dispondrán de toda la información de la ruta\, que también estará disponible a través de Google Maps: CLICK AQUÍ\n🔗 \n
URL:https://axarquiacostadelsol.es/evento/ruta-de-la-cuchara/
LOCATION:Rincón de la Victoria\, Rincón de la Victoria\, Málaga\, 29730\, España
CATEGORIES:Fiestas gastronómicas
ATTACH;FMTTYPE=image/jpeg:https://axarquiacostadelsol.es/wp-content/uploads/2026/02/634158469_1337878321702385_3632097880443357252_n.jpg
ORGANIZER;CN="Ayuntamiento%20de%20Rinc%C3%B3n%20de%20la%20Victoria":MAILTO:952 402 300
END:VEVENT
BEGIN:VEVENT
DTSTART;TZID=UTC:20260224T080000
DTEND;TZID=UTC:20260305T170000
DTSTAMP:20260421T094616
CREATED:20260217T105226Z
LAST-MODIFIED:20260217T105226Z
UID:33640-1771920000-1772730000@axarquiacostadelsol.es
SUMMARY:🪑 Iniciativa Solidaria: "Nuevos Espacios por Vivir"
DESCRIPTION: \nEl grupo B bou Iconic Hotels ha puesto en marcha una destacada iniciativa solidaria bajo el lema “Nuevos Espacios por Vivir”. Con el objetivo de apoyar causas sociales locales\, la cadena hotelera llevará a cabo una venta especial de mobiliario y objetos de decoración procedentes de sus emblemáticos establecimientos B bou Iconic Hotels Cortijo Bravo y B bou Iconic Hotels La Viñuela & Spa\nParte de lo recaudado a través de esta acción será destinado a beneficio de la asociación Amirax y la Asociación Esperanza.\nPara quienes deseen adquirir piezas exclusivas y colaborar con la causa:\n📅 Fecha: Del 24 de febrero al 3 de marzo.\n⏰ Horario: De 11:00 a 19:00 h.\n📍 Lugar: Salón Axarquía – B bou Iconic Hotel La Viñuela.\nPara más información:\n📧 Email: hotel@hotelvinuela.com\n📞 Teléfonos: +34 952 519 193 / +34 676 488 144\n#Solidaridad #Axarquía #BBouHotels #DecoraciónSolidaria #Amirax #AsociaciónEsperanza #Málaga #EventosBenéficos \n
URL:https://axarquiacostadelsol.es/evento/iniciativa-solidaria-nuevos-espacios-por-vivir/
LOCATION:B Bou Iconic Hotel La Viñuela & Spa\, Carretera de Vélez a Alhama\, SN\, 29712\, Diseminado Diseminados\, 16\, 29713\, Málaga\, La Viñuela\, Málaga\, 29713\, España
CATEGORIES:Mercado
ATTACH;FMTTYPE=image/jpeg:https://axarquiacostadelsol.es/wp-content/uploads/2026/02/WhatsApp-Image-2026-02-17-at-11.29.57.jpeg
END:VEVENT
BEGIN:VEVENT
DTSTART;VALUE=DATE:20260227
DTEND;VALUE=DATE:20260323
DTSTAMP:20260421T094616
CREATED:20260212T114610Z
LAST-MODIFIED:20260212T114610Z
UID:33585-1772150400-1774223999@axarquiacostadelsol.es
SUMMARY:¡RUTA DE LA TAPA EN TORRE DEL MAR!
DESCRIPTION:🍴 ¡RUTA DE LA TAPA EN TORRE DEL MAR! 🍻 \nLos amantes de la buena gastronomía tienen una cita imprescindible. Vuelve la XIV Ruta de la Tapa de Torre del Mar\, un evento que promete deleitar los paladares más exigentes con lo mejor de la cocina local. 🌊🥘 \nAquí todos los detalles:\n📅 ¿Cuándo?: Del 27 de febrero al 22 de marzo. 🗓️\n📍 ¿Dónde?: En 28 establecimientos participantes repartidos por toda Torre del Mar. 🏢🚶‍♂️\n💰 Precio: Tapa + Bebida por solo 4€. 💸🥤 \nLo que hace especial a esta edición:\n🏆 Calidad Premiada: Se podrá degustar la “Tapa Ganadora” de la edición anterior para ir abriendo boca. 🤤🥇\n🗳️ Tú eres el jurado: Los visitantes podrán puntuar sus tapas favoritas de esta edición. ¡Tu voto cuenta! ⭐📝\n🎁 Premios: Participar tiene recompensa. ¡Habrá sorteos y premios para quienes completen su pasaporte de la ruta! 🎁✨ \nEste evento\, organizado por la ACET Empresarios Torre del Mar en colaboración con el Ayuntamiento Vélez-Málaga \, la Tenencia de Alcaldía de Torre del Mar y patrocinado por Cervezas Victoria\, es la excusa perfecta para disfrutar del ambiente de nuestro pueblo. 🤝🏰🍻 \n🌟 ¡Prepara el paladar y lánzate a descubrir nuevos sabores! 🌟 \n#TorreDel Mar #RutaDeLaTapa #Gastronomia #VelezMalaga #Axarquia #Tapas #CervezaVictoria #TurismoGastronomico 🍤🥂🥖 \n
URL:https://axarquiacostadelsol.es/evento/ruta-de-la-tapa-en-torre-del-mar/
LOCATION:Torre del Mar\, Torre del Mar\, Málaga\, 29730\, España
CATEGORIES:Fiestas gastronómicas
ATTACH;FMTTYPE=image/jpeg:https://axarquiacostadelsol.es/wp-content/uploads/2026/02/RUTA-TAPA-CARTEL.jpg
END:VEVENT
END:VCALENDAR