BEGIN:VCALENDAR
VERSION:2.0
PRODID:-//APTA - Axarquía Costa del Sol - ECPv5.1.1//NONSGML v1.0//EN
CALSCALE:GREGORIAN
METHOD:PUBLISH
X-WR-CALNAME:APTA - Axarquía Costa del Sol
X-ORIGINAL-URL:https://axarquiacostadelsol.es
X-WR-CALDESC:Eventos para APTA - Axarquía Costa del Sol
BEGIN:VTIMEZONE
TZID:UTC
BEGIN:STANDARD
TZOFFSETFROM:+0000
TZOFFSETTO:+0000
TZNAME:UTC
DTSTART:20260101T000000
END:STANDARD
END:VTIMEZONE
BEGIN:VEVENT
DTSTART;VALUE=DATE:20260124
DTEND;VALUE=DATE:20260325
DTSTAMP:20260421T094550
CREATED:20260115T114542Z
LAST-MODIFIED:20260115T114542Z
UID:33428-1769212800-1774396799@axarquiacostadelsol.es
SUMMARY:Inauguración de la exposición "Pequeño Bosque" del 24 de enero al 24 de marzo
DESCRIPTION:¡Doble cita con el arte en Torrox! 🖼️✨ \nELDEVENIR Art Gallery celebra su 5º aniversario con la inauguración de “Pequeño Bosque”\, la nueva exposición de la pintora Irene Sánchez Moreno. 🌲 \n📅 Sábado 24 de enero 🕛 12:00 h \n📍 ELDEVENIR Art Gallery (Av. Isaac Albéniz\, 3\, Torrox) \nUna mañana para conmemorar cinco años de trayectoria y disfrutar del talento de la artista. 🥂 \n#Arte #Torrox #Exposicion #Cultura #Malaga #EldevenirArtGallery \n
URL:https://axarquiacostadelsol.es/evento/inauguracion-de-la-exposicion-pequeno-bosque-del-24-de-enero-al-24-de-marzo/
LOCATION:Torrox\, Torrox\, Málaga\, 29770\, España
CATEGORIES:Torrox
ATTACH;FMTTYPE=image/jpeg:https://axarquiacostadelsol.es/wp-content/uploads/2026/01/WhatsApp-Image-2026-01-14-at-22.50.53.jpeg
ORGANIZER;CN="Ayuntamiento%20de%20Torrox":MAILTO:ayuntamiento@torrox.es
END:VEVENT
BEGIN:VEVENT
DTSTART;VALUE=DATE:20260227
DTEND;VALUE=DATE:20260323
DTSTAMP:20260421T094550
CREATED:20260212T114610Z
LAST-MODIFIED:20260212T114610Z
UID:33585-1772150400-1774223999@axarquiacostadelsol.es
SUMMARY:¡RUTA DE LA TAPA EN TORRE DEL MAR!
DESCRIPTION:🍴 ¡RUTA DE LA TAPA EN TORRE DEL MAR! 🍻 \nLos amantes de la buena gastronomía tienen una cita imprescindible. Vuelve la XIV Ruta de la Tapa de Torre del Mar\, un evento que promete deleitar los paladares más exigentes con lo mejor de la cocina local. 🌊🥘 \nAquí todos los detalles:\n📅 ¿Cuándo?: Del 27 de febrero al 22 de marzo. 🗓️\n📍 ¿Dónde?: En 28 establecimientos participantes repartidos por toda Torre del Mar. 🏢🚶‍♂️\n💰 Precio: Tapa + Bebida por solo 4€. 💸🥤 \nLo que hace especial a esta edición:\n🏆 Calidad Premiada: Se podrá degustar la “Tapa Ganadora” de la edición anterior para ir abriendo boca. 🤤🥇\n🗳️ Tú eres el jurado: Los visitantes podrán puntuar sus tapas favoritas de esta edición. ¡Tu voto cuenta! ⭐📝\n🎁 Premios: Participar tiene recompensa. ¡Habrá sorteos y premios para quienes completen su pasaporte de la ruta! 🎁✨ \nEste evento\, organizado por la ACET Empresarios Torre del Mar en colaboración con el Ayuntamiento Vélez-Málaga \, la Tenencia de Alcaldía de Torre del Mar y patrocinado por Cervezas Victoria\, es la excusa perfecta para disfrutar del ambiente de nuestro pueblo. 🤝🏰🍻 \n🌟 ¡Prepara el paladar y lánzate a descubrir nuevos sabores! 🌟 \n#TorreDel Mar #RutaDeLaTapa #Gastronomia #VelezMalaga #Axarquia #Tapas #CervezaVictoria #TurismoGastronomico 🍤🥂🥖 \n
URL:https://axarquiacostadelsol.es/evento/ruta-de-la-tapa-en-torre-del-mar/
LOCATION:Torre del Mar\, Torre del Mar\, Málaga\, 29730\, España
CATEGORIES:Fiestas gastronómicas
ATTACH;FMTTYPE=image/jpeg:https://axarquiacostadelsol.es/wp-content/uploads/2026/02/RUTA-TAPA-CARTEL.jpg
END:VEVENT
BEGIN:VEVENT
DTSTART;TZID=UTC:20260303T000000
DTEND;TZID=UTC:20260322T133000
DTSTAMP:20260421T094550
CREATED:20260303T114313Z
LAST-MODIFIED:20260303T114313Z
UID:33748-1772496000-1774186200@axarquiacostadelsol.es
SUMMARY:Diálogos entre planos -  La Cala del Moral - Hasta el 22 de Marzo
DESCRIPTION:‘Diálogos entre planos. De la abstracción a la figuración’ – Irene Casado. \n  \n \nSala Mare Nostrum – La Cala del Moral | Martes a sábados de 10:30 a 13:30 horas y de 17:00 a 20:00 horas; domingos de 11:00 a 13:30 horas; lunes y festivos cerrado | Acceso libre hasta completar aforo. \nLa Sala Mare Nostrum acoge la exposición ‘Diálogos entre planos. De la abstracción a la figuración’ de Irene Casado. \nLa muestra reúne una selección de obras recientes en pintura acrílica sobre lienzo\, en las que la artista integra texturas y el uso del color a través de veladuras\, moviéndose en ese límite entre la abstracción y la figuración. Un recorrido que propone una reflexión sobre el paso del tiempo y la huella de la experiencia personal. \n
URL:https://axarquiacostadelsol.es/evento/dialogos-entre-planos-la-cala-del-moral-hasta-el-22-de-marzo/
LOCATION:Málaga
CATEGORIES:Arte y exposiciones
ORGANIZER;CN="Ayuntamiento%20de%20Rinc%C3%B3n%20de%20la%20Victoria":MAILTO:952 402 300
END:VEVENT
BEGIN:VEVENT
DTSTART;VALUE=DATE:20260305
DTEND;VALUE=DATE:20260327
DTSTAMP:20260421T094550
CREATED:20260303T103336Z
LAST-MODIFIED:20260303T103336Z
UID:33738-1772668800-1774569599@axarquiacostadelsol.es
SUMMARY:Cuentacuentos Biblioteca Torre de Benagalbón - 5 al 26 de marzo
DESCRIPTION:Jueves 5 de marzo\nBiblioteca Municipal Manuel Alcántara – Torre de Benagalbón | 17:30 horas | Requiere reserva previa.\n­ \nPara asistir es necesario reservar previamente llamando a la biblioteca correspondiente. \nNuestras bibliotecas continúan llenándose de historias\, imaginación y aventuras este mes de marzo con la Seño de los Cuentos y el proyecto ‘Abracadabra\, que la lectura se abra’. \nEl primer cuentacuentos tendrá lugar este jueves\, 5 de marzo\, en la Biblioteca Municipal Manuel Alcántara\, con la historia ‘Los miedos del capitán Cacurcias’. \nLas sesiones\, orientadas a despertar el interés por la lectura desde edades tempranas\, continuarán los días 12\, 19 y 26 de marzo en el resto de bibliotecas municipales. \nPara asistir es necesaria la reserva previa llamando a la biblioteca correspondiente. \n  \n📅 Jueves 5 de marzo | 📖 ‘Los miedos del capitán Cacurcias’ | \n📍 Biblioteca Municipal Manuel Alcántara (Torre de Benagalbón) | \n🕠 17:30 horas | \n🎟️ Reserva tu plaza llamando al 952 917 788. \n  \n📅 Jueves 12 de marzo | 📖 ‘¡Cómo mola tu escoba!’ | \n📍 Biblioteca Municipal Antonio de Hilaria (Rincón de la Victoria) | \n🕠 17:30 horas | \n🎟️ Reserva tu plaza llamando al 952 978 251. \n  \n📅 Jueves 19 de marzo | \n📖 ‘La luz de Lucía’ | \n📍 Biblioteca Municipal de Benagalbón | \n🕠 17:30 horas | \n🎟️ Reserva tu plaza llamando al 952 400 933. \n  \n📅 Jueves 26 de marzo | \n📖 ‘La vaca que puso un huevo’ | \n📍 Biblioteca Municipal La Cala del Moral | \n🕠 17:30 horas | \n🎟️ Reserva tu plaza llamando al 952 404 199. \n
URL:https://axarquiacostadelsol.es/evento/cuentacuentos-biblioteca-torre-de-benagalbon-5-al-26-de-marzo/
LOCATION:Benagalbón\, Benagalbón\, Málaga\, 29738\, España
CATEGORIES:Infantil
ATTACH;FMTTYPE=image/png:https://axarquiacostadelsol.es/wp-content/uploads/2026/03/9CXEwbk8cIcE.png
ORGANIZER;CN="Ayuntamiento%20de%20Rinc%C3%B3n%20de%20la%20Victoria":MAILTO:952 402 300
END:VEVENT
BEGIN:VEVENT
DTSTART;VALUE=DATE:20260312
DTEND;VALUE=DATE:20260406
DTSTAMP:20260421T094550
CREATED:20260312T124140Z
LAST-MODIFIED:20260312T124140Z
UID:33896-1773273600-1775433599@axarquiacostadelsol.es
SUMMARY:III Ruta del Ajobacalao del 10 de marzo al 5 de abril
DESCRIPTION: \n¡Vuelve la tradición a Vélez-Málaga! Ya está en marcha la III Ruta del Ajobacalao\, que se celebra del 10 de marzo al 5 de abril. \nEsta edición llega con novedades para dinamizar el comercio local y la hostelería: \nPremios a la creatividad: Se otorgarán 200 € a la mejor promoción (vídeos\, fotos o propuestas con IA). \nVoto popular: Los clientes podrán elegir el mejor plato por su sabor escaneando los códigos QR de los carteles oficiales. \nMención especial: Se reconocerá al establecimiento que mejor respete la receta tradicional y la calidad del producto. \nUna oportunidad perfecta para disfrutar de este sabor único de la Cuaresma axárquica. \n
URL:https://axarquiacostadelsol.es/evento/iii-ruta-del-ajobacalao-del-10-de-marzo-al-5-de-abril/
LOCATION:Vélez-Málaga\, Plaza Carmelitas\, 12\, Vélez-Málaga\, Málaga\, 29700\, España
ATTACH;FMTTYPE=image/jpeg:https://axarquiacostadelsol.es/wp-content/uploads/2026/03/CARTEL.jpg
ORGANIZER;CN="Ayuntamiento%20de%20V%C3%A9lez-M%C3%A1laga":MAILTO:oac@velezmalaga.es
END:VEVENT
BEGIN:VEVENT
DTSTART;VALUE=DATE:20260317
DTEND;VALUE=DATE:20260323
DTSTAMP:20260421T094550
CREATED:20260317T110916Z
LAST-MODIFIED:20260317T110916Z
UID:33930-1773705600-1774223999@axarquiacostadelsol.es
SUMMARY:14ª edición del Mercado del Queso Artesano de Cabra Malagueña y Vino de la Axarquía
DESCRIPTION:\n ¡Cita gastronómica en Torre del Mar!\n\n\nLlega la 14ª edición del Mercado del Queso Artesano de Cabra Malagueña y Vino de la Axarquía. Un evento imprescindible para los amantes de los productos locales y el sabor tradicional de nuestra tierra.\n\n\nEl Paseo de Larios se llenará de los mejores quesos y caldos de la comarca en una jornada para disfrutar en familia.\n\n\n Fecha: Domingo\, 22 de marzo\n Lugar: Paseo de Larios\, Torre del Mar\n Horario: De 11:00 a 18:00 horas\n\n\nUna oportunidad perfecta para apoyar a los productores locales y degustar la esencia de la Axarquía junto al mar. \n\n\n Más info en: www.axarquiamegusta.es\n\n  \n
URL:https://axarquiacostadelsol.es/evento/14a-edicion-del-mercado-del-queso-artesano-de-cabra-malaguena-y-vino-de-la-axarquia/
LOCATION:Paseo Marítimo Torre del Mar\, Paso Marítimo Torre del Mar\, Vélez-Málaga\, Málaga\, 29740\, España
CATEGORIES:Fiestas gastronómicas
ATTACH;FMTTYPE=image/jpeg:https://axarquiacostadelsol.es/wp-content/uploads/2026/03/648790617_1308480767996875_3410028774885708752_n.jpg
ORGANIZER;CN="Ayuntamiento%20de%20V%C3%A9lez-M%C3%A1laga":MAILTO:oac@velezmalaga.es
END:VEVENT
END:VCALENDAR